BEGIN:VCALENDAR
VERSION:2.0
PRODID:-//GCMA - ECPv6.15.20//NONSGML v1.0//EN
CALSCALE:GREGORIAN
METHOD:PUBLISH
X-WR-CALNAME:GCMA
X-ORIGINAL-URL:https://www.gcma.org.uk
X-WR-CALDESC:Events for GCMA
REFRESH-INTERVAL;VALUE=DURATION:PT1H
X-Robots-Tag:noindex
X-PUBLISHED-TTL:PT1H
BEGIN:VTIMEZONE
TZID:Europe/London
BEGIN:DAYLIGHT
TZOFFSETFROM:+0000
TZOFFSETTO:+0100
TZNAME:BST
DTSTART:20210328T010000
END:DAYLIGHT
BEGIN:STANDARD
TZOFFSETFROM:+0100
TZOFFSETTO:+0000
TZNAME:GMT
DTSTART:20211031T010000
END:STANDARD
BEGIN:DAYLIGHT
TZOFFSETFROM:+0000
TZOFFSETTO:+0100
TZNAME:BST
DTSTART:20220327T010000
END:DAYLIGHT
BEGIN:STANDARD
TZOFFSETFROM:+0100
TZOFFSETTO:+0000
TZNAME:GMT
DTSTART:20221030T010000
END:STANDARD
BEGIN:DAYLIGHT
TZOFFSETFROM:+0000
TZOFFSETTO:+0100
TZNAME:BST
DTSTART:20230326T010000
END:DAYLIGHT
BEGIN:STANDARD
TZOFFSETFROM:+0100
TZOFFSETTO:+0000
TZNAME:GMT
DTSTART:20231029T010000
END:STANDARD
END:VTIMEZONE
BEGIN:VEVENT
DTSTART;VALUE=DATE:20220715
DTEND;VALUE=DATE:20220716
DTSTAMP:20260425T165715
CREATED:20220524T104621Z
LAST-MODIFIED:20220727T094553Z
UID:11549-1657843200-1657929599@www.gcma.org.uk
SUMMARY:Regional Guest Day
DESCRIPTION:
URL:https://www.gcma.org.uk/event/regional-guest-day-3/
LOCATION:Brickendon Grange Golf Club
CATEGORIES:Chiltern & Home Counties,Chilterns,Regional
END:VEVENT
BEGIN:VEVENT
DTSTART;VALUE=DATE:20220727
DTEND;VALUE=DATE:20220728
DTSTAMP:20260425T165715
CREATED:20220524T104822Z
LAST-MODIFIED:20220727T094553Z
UID:11556-1658880000-1658966399@www.gcma.org.uk
SUMMARY:Regional Match
DESCRIPTION:
URL:https://www.gcma.org.uk/event/regional-match-11/
LOCATION:John O’Gaunt Golf Club
CATEGORIES:Chiltern & Home Counties,Chilterns,East Anglia & Norfolk,Regional
END:VEVENT
END:VCALENDAR