BEGIN:VCALENDAR
VERSION:2.0
PRODID:-//GCMA - ECPv6.15.20//NONSGML v1.0//EN
CALSCALE:GREGORIAN
METHOD:PUBLISH
X-WR-CALNAME:GCMA
X-ORIGINAL-URL:https://www.gcma.org.uk
X-WR-CALDESC:Events for GCMA
REFRESH-INTERVAL;VALUE=DURATION:PT1H
X-Robots-Tag:noindex
X-PUBLISHED-TTL:PT1H
BEGIN:VTIMEZONE
TZID:Europe/London
BEGIN:DAYLIGHT
TZOFFSETFROM:+0000
TZOFFSETTO:+0100
TZNAME:BST
DTSTART:20230326T010000
END:DAYLIGHT
BEGIN:STANDARD
TZOFFSETFROM:+0100
TZOFFSETTO:+0000
TZNAME:GMT
DTSTART:20231029T010000
END:STANDARD
BEGIN:DAYLIGHT
TZOFFSETFROM:+0000
TZOFFSETTO:+0100
TZNAME:BST
DTSTART:20240331T010000
END:DAYLIGHT
BEGIN:STANDARD
TZOFFSETFROM:+0100
TZOFFSETTO:+0000
TZNAME:GMT
DTSTART:20241027T010000
END:STANDARD
BEGIN:DAYLIGHT
TZOFFSETFROM:+0000
TZOFFSETTO:+0100
TZNAME:BST
DTSTART:20250330T010000
END:DAYLIGHT
BEGIN:STANDARD
TZOFFSETFROM:+0100
TZOFFSETTO:+0000
TZNAME:GMT
DTSTART:20251026T010000
END:STANDARD
END:VTIMEZONE
BEGIN:VEVENT
DTSTART;TZID=Europe/London:20240117T080000
DTEND;TZID=Europe/London:20240117T170000
DTSTAMP:20260421T194124
CREATED:20240108T162231Z
LAST-MODIFIED:20240108T162245Z
UID:21198-1705478400-1705510800@www.gcma.org.uk
SUMMARY:East Midlands Regional Business Meeting
DESCRIPTION:
URL:https://www.gcma.org.uk/event/east-midlands-regional-business-meeting/
LOCATION:Rushcliffe Golf Club
CATEGORIES:East Midlands
END:VEVENT
BEGIN:VEVENT
DTSTART;TZID=Europe/London:20240117T080000
DTEND;TZID=Europe/London:20240117T170000
DTSTAMP:20260421T194124
CREATED:20240108T163156Z
LAST-MODIFIED:20240108T164321Z
UID:21209-1705478400-1705510800@www.gcma.org.uk
SUMMARY:East Midlands Regional AGM and Business Meeting
DESCRIPTION:
URL:https://www.gcma.org.uk/event/east-midlands-regional-agm-and-business-meeting/
LOCATION:John Deere
CATEGORIES:East Midlands
END:VEVENT
END:VCALENDAR