BEGIN:VCALENDAR
VERSION:2.0
PRODID:-//GCMA - ECPv6.15.20//NONSGML v1.0//EN
CALSCALE:GREGORIAN
METHOD:PUBLISH
X-WR-CALNAME:GCMA
X-ORIGINAL-URL:https://www.gcma.org.uk
X-WR-CALDESC:Events for GCMA
REFRESH-INTERVAL;VALUE=DURATION:PT1H
X-Robots-Tag:noindex
X-PUBLISHED-TTL:PT1H
BEGIN:VTIMEZONE
TZID:Europe/London
BEGIN:DAYLIGHT
TZOFFSETFROM:+0000
TZOFFSETTO:+0100
TZNAME:BST
DTSTART:20220327T010000
END:DAYLIGHT
BEGIN:STANDARD
TZOFFSETFROM:+0100
TZOFFSETTO:+0000
TZNAME:GMT
DTSTART:20221030T010000
END:STANDARD
BEGIN:DAYLIGHT
TZOFFSETFROM:+0000
TZOFFSETTO:+0100
TZNAME:BST
DTSTART:20230326T010000
END:DAYLIGHT
BEGIN:STANDARD
TZOFFSETFROM:+0100
TZOFFSETTO:+0000
TZNAME:GMT
DTSTART:20231029T010000
END:STANDARD
BEGIN:DAYLIGHT
TZOFFSETFROM:+0000
TZOFFSETTO:+0100
TZNAME:BST
DTSTART:20240331T010000
END:DAYLIGHT
BEGIN:STANDARD
TZOFFSETFROM:+0100
TZOFFSETTO:+0000
TZNAME:GMT
DTSTART:20241027T010000
END:STANDARD
END:VTIMEZONE
BEGIN:VEVENT
DTSTART;TZID=Europe/London:20230824T000000
DTEND;TZID=Europe/London:20230824T000000
DTSTAMP:20260424T113903
CREATED:20221223T133307Z
LAST-MODIFIED:20221223T133307Z
UID:16791-1692835200-1692835200@www.gcma.org.uk
SUMMARY:Martin Yates Memorial - Captains team VS Secretary's Team
DESCRIPTION:
URL:https://www.gcma.org.uk/event/martin-yates-memorial-captains-team-vs-secretarys-team/
CATEGORIES:London & Home Counties
END:VEVENT
END:VCALENDAR