BEGIN:VCALENDAR
VERSION:2.0
PRODID:-//GCMA - ECPv6.15.20//NONSGML v1.0//EN
CALSCALE:GREGORIAN
METHOD:PUBLISH
X-ORIGINAL-URL:https://www.gcma.org.uk
X-WR-CALDESC:Events for GCMA
REFRESH-INTERVAL;VALUE=DURATION:PT1H
X-Robots-Tag:noindex
X-PUBLISHED-TTL:PT1H
BEGIN:VTIMEZONE
TZID:Europe/London
BEGIN:DAYLIGHT
TZOFFSETFROM:+0000
TZOFFSETTO:+0100
TZNAME:BST
DTSTART:20230326T010000
END:DAYLIGHT
BEGIN:STANDARD
TZOFFSETFROM:+0100
TZOFFSETTO:+0000
TZNAME:GMT
DTSTART:20231029T010000
END:STANDARD
BEGIN:DAYLIGHT
TZOFFSETFROM:+0000
TZOFFSETTO:+0100
TZNAME:BST
DTSTART:20240331T010000
END:DAYLIGHT
BEGIN:STANDARD
TZOFFSETFROM:+0100
TZOFFSETTO:+0000
TZNAME:GMT
DTSTART:20241027T010000
END:STANDARD
BEGIN:DAYLIGHT
TZOFFSETFROM:+0000
TZOFFSETTO:+0100
TZNAME:BST
DTSTART:20250330T010000
END:DAYLIGHT
BEGIN:STANDARD
TZOFFSETFROM:+0100
TZOFFSETTO:+0000
TZNAME:GMT
DTSTART:20251026T010000
END:STANDARD
END:VTIMEZONE
BEGIN:VEVENT
DTSTART;TZID=Europe/London:20240512T080000
DTEND;TZID=Europe/London:20240513T170000
DTSTAMP:20260424T000956
CREATED:20240108T171216Z
LAST-MODIFIED:20240108T171600Z
UID:21279-1715500800-1715619600@www.gcma.org.uk
SUMMARY:50th anniversary of the Irish - Home international Match
DESCRIPTION:
URL:https://www.gcma.org.uk/event/50th-anniversary-of-the-irish-home-international-match/
LOCATION:Royal Lytham and St Annes
CATEGORIES:ALL,National Event
END:VEVENT
END:VCALENDAR