BEGIN:VCALENDAR
VERSION:2.0
PRODID:-//GCMA - ECPv6.15.20//NONSGML v1.0//EN
CALSCALE:GREGORIAN
METHOD:PUBLISH
X-WR-CALNAME:GCMA
X-ORIGINAL-URL:https://www.gcma.org.uk
X-WR-CALDESC:Events for GCMA
REFRESH-INTERVAL;VALUE=DURATION:PT1H
X-Robots-Tag:noindex
X-PUBLISHED-TTL:PT1H
BEGIN:VTIMEZONE
TZID:Europe/London
BEGIN:DAYLIGHT
TZOFFSETFROM:+0000
TZOFFSETTO:+0100
TZNAME:BST
DTSTART:20250330T010000
END:DAYLIGHT
BEGIN:STANDARD
TZOFFSETFROM:+0100
TZOFFSETTO:+0000
TZNAME:GMT
DTSTART:20251026T010000
END:STANDARD
BEGIN:DAYLIGHT
TZOFFSETFROM:+0000
TZOFFSETTO:+0100
TZNAME:BST
DTSTART:20260329T010000
END:DAYLIGHT
BEGIN:STANDARD
TZOFFSETFROM:+0100
TZOFFSETTO:+0000
TZNAME:GMT
DTSTART:20261025T010000
END:STANDARD
BEGIN:DAYLIGHT
TZOFFSETFROM:+0000
TZOFFSETTO:+0100
TZNAME:BST
DTSTART:20270328T010000
END:DAYLIGHT
BEGIN:STANDARD
TZOFFSETFROM:+0100
TZOFFSETTO:+0000
TZNAME:GMT
DTSTART:20271031T010000
END:STANDARD
END:VTIMEZONE
BEGIN:VEVENT
DTSTART;TZID=Europe/London:20260915T080000
DTEND;TZID=Europe/London:20260917T170000
DTSTAMP:20260421T144455
CREATED:20251013T112742Z
LAST-MODIFIED:20251013T112742Z
UID:31649-1789459200-1789664400@www.gcma.org.uk
SUMMARY:Advanced Management Certificate - Strategic Planning
DESCRIPTION:
URL:https://www.gcma.org.uk/event/advanced-management-certificate-strategic-planning/
LOCATION:The Caversham
CATEGORIES:Education,National Event
END:VEVENT
BEGIN:VEVENT
DTSTART;TZID=Europe/London:20260921T080000
DTEND;TZID=Europe/London:20260925T170000
DTSTAMP:20260421T144455
CREATED:20251013T110257Z
LAST-MODIFIED:20251013T110257Z
UID:31625-1789977600-1790355600@www.gcma.org.uk
SUMMARY:Principles of Golf Club Management (Residential)
DESCRIPTION:
URL:https://www.gcma.org.uk/event/principles-of-golf-club-management-residential-2/
LOCATION:Hillside Golf Club\, Hastings Rd\,\, Southport\, PR8 2LU\, United Kingdom
CATEGORIES:Education,National Event
END:VEVENT
END:VCALENDAR