BEGIN:VCALENDAR
VERSION:2.0
PRODID:-//GCMA - ECPv6.15.20//NONSGML v1.0//EN
CALSCALE:GREGORIAN
METHOD:PUBLISH
X-ORIGINAL-URL:https://www.gcma.org.uk
X-WR-CALDESC:Events for GCMA
REFRESH-INTERVAL;VALUE=DURATION:PT1H
X-Robots-Tag:noindex
X-PUBLISHED-TTL:PT1H
BEGIN:VTIMEZONE
TZID:Europe/London
BEGIN:DAYLIGHT
TZOFFSETFROM:+0000
TZOFFSETTO:+0100
TZNAME:BST
DTSTART:20220327T010000
END:DAYLIGHT
BEGIN:STANDARD
TZOFFSETFROM:+0100
TZOFFSETTO:+0000
TZNAME:GMT
DTSTART:20221030T010000
END:STANDARD
BEGIN:DAYLIGHT
TZOFFSETFROM:+0000
TZOFFSETTO:+0100
TZNAME:BST
DTSTART:20230326T010000
END:DAYLIGHT
BEGIN:STANDARD
TZOFFSETFROM:+0100
TZOFFSETTO:+0000
TZNAME:GMT
DTSTART:20231029T010000
END:STANDARD
BEGIN:DAYLIGHT
TZOFFSETFROM:+0000
TZOFFSETTO:+0100
TZNAME:BST
DTSTART:20240331T010000
END:DAYLIGHT
BEGIN:STANDARD
TZOFFSETFROM:+0100
TZOFFSETTO:+0000
TZNAME:GMT
DTSTART:20241027T010000
END:STANDARD
BEGIN:DAYLIGHT
TZOFFSETFROM:+0000
TZOFFSETTO:+0100
TZNAME:BST
DTSTART:20250330T010000
END:DAYLIGHT
BEGIN:STANDARD
TZOFFSETFROM:+0100
TZOFFSETTO:+0000
TZNAME:GMT
DTSTART:20251026T010000
END:STANDARD
BEGIN:DAYLIGHT
TZOFFSETFROM:+0000
TZOFFSETTO:+0100
TZNAME:BST
DTSTART:20260329T010000
END:DAYLIGHT
BEGIN:STANDARD
TZOFFSETFROM:+0100
TZOFFSETTO:+0000
TZNAME:GMT
DTSTART:20261025T010000
END:STANDARD
BEGIN:DAYLIGHT
TZOFFSETFROM:+0000
TZOFFSETTO:+0100
TZNAME:BST
DTSTART:20270328T010000
END:DAYLIGHT
BEGIN:STANDARD
TZOFFSETFROM:+0100
TZOFFSETTO:+0000
TZNAME:GMT
DTSTART:20271031T010000
END:STANDARD
END:VTIMEZONE
BEGIN:VEVENT
DTSTART;TZID=Europe/London:20230725T000000
DTEND;TZID=Europe/London:20230725T000000
DTSTAMP:20260425T150555
CREATED:20221223T132859Z
LAST-MODIFIED:20221223T132859Z
UID:16781-1690243200-1690243200@www.gcma.org.uk
SUMMARY:South east Summer Meeting
DESCRIPTION:
URL:https://www.gcma.org.uk/event/south-east-summer-meeting-2/
CATEGORIES:South East
END:VEVENT
BEGIN:VEVENT
DTSTART;TZID=Europe/London:20231006T000000
DTEND;TZID=Europe/London:20231006T000000
DTSTAMP:20260425T150555
CREATED:20221223T133709Z
LAST-MODIFIED:20221223T133709Z
UID:16803-1696550400-1696550400@www.gcma.org.uk
SUMMARY:South East Autumn Meeting
DESCRIPTION:
URL:https://www.gcma.org.uk/event/south-east-autumn-meeting/
CATEGORIES:South East
END:VEVENT
BEGIN:VEVENT
DTSTART;TZID=Europe/London:20231019T000000
DTEND;TZID=Europe/London:20231019T000000
DTSTAMP:20260425T150555
CREATED:20221223T134117Z
LAST-MODIFIED:20221223T134117Z
UID:16809-1697673600-1697673600@www.gcma.org.uk
SUMMARY:London & Home Counties VS South East
DESCRIPTION:
URL:https://www.gcma.org.uk/event/london-home-counties-vs-south-east/
CATEGORIES:London & Home Counties,South East
END:VEVENT
BEGIN:VEVENT
DTSTART;TZID=Europe/London:20240108T080000
DTEND;TZID=Europe/London:20240108T170000
DTSTAMP:20260425T150555
CREATED:20240108T170916Z
LAST-MODIFIED:20240108T170916Z
UID:21267-1704700800-1704733200@www.gcma.org.uk
SUMMARY:South East Regional Spring Business Meeting
DESCRIPTION:
URL:https://www.gcma.org.uk/event/south-east-regional-spring-business-meeting/
LOCATION:Hever Castle Golf Club
CATEGORIES:South East
END:VEVENT
BEGIN:VEVENT
DTSTART;TZID=Europe/London:20240110T080000
DTEND;TZID=Europe/London:20240110T170000
DTSTAMP:20260425T150555
CREATED:20240110T112738Z
LAST-MODIFIED:20240110T112738Z
UID:21529-1704873600-1704906000@www.gcma.org.uk
SUMMARY:South East Region Christmas Event 2024
DESCRIPTION:
URL:https://www.gcma.org.uk/event/south-east-region-christmas-event-2024/
LOCATION:Bearsted Golf Club
CATEGORIES:South East
END:VEVENT
BEGIN:VEVENT
DTSTART;TZID=Europe/London:20240322T080000
DTEND;TZID=Europe/London:20240322T170000
DTSTAMP:20260425T150555
CREATED:20240108T165551Z
LAST-MODIFIED:20240108T165551Z
UID:21242-1711094400-1711126800@www.gcma.org.uk
SUMMARY:South East Captain's Day & AGM
DESCRIPTION:
URL:https://www.gcma.org.uk/event/south-east-captains-day-agm-3/
LOCATION:Sundridge Park Golf Club
CATEGORIES:South East
END:VEVENT
BEGIN:VEVENT
DTSTART;TZID=Europe/London:20240523T080000
DTEND;TZID=Europe/London:20240523T170000
DTSTAMP:20260425T150555
CREATED:20240108T172653Z
LAST-MODIFIED:20240108T172653Z
UID:21295-1716451200-1716483600@www.gcma.org.uk
SUMMARY:East Anglia vs South East
DESCRIPTION:
URL:https://www.gcma.org.uk/event/east-anglia-vs-south-east-3/
LOCATION:Colchester Golf Club
CATEGORIES:East Anglia,South East
END:VEVENT
BEGIN:VEVENT
DTSTART;TZID=Europe/London:20240620T080000
DTEND;TZID=Europe/London:20240620T170000
DTSTAMP:20260425T150555
CREATED:20240109T104918Z
LAST-MODIFIED:20240109T104918Z
UID:21321-1718870400-1718902800@www.gcma.org.uk
SUMMARY:South East Regional Guest Day
DESCRIPTION:
URL:https://www.gcma.org.uk/event/south-east-regional-guest-day/
LOCATION:Rochester & Cobham Golf Club
CATEGORIES:South East
END:VEVENT
BEGIN:VEVENT
DTSTART;TZID=Europe/London:20240709T080000
DTEND;TZID=Europe/London:20240709T170000
DTSTAMP:20260425T150555
CREATED:20240109T105649Z
LAST-MODIFIED:20240109T105649Z
UID:21341-1720512000-1720544400@www.gcma.org.uk
SUMMARY:South East GCMA vs French
DESCRIPTION:
URL:https://www.gcma.org.uk/event/south-east-gcma-vs-french/
LOCATION:Sundridge Park Golf Club
CATEGORIES:South East
END:VEVENT
BEGIN:VEVENT
DTSTART;TZID=Europe/London:20240710T080000
DTEND;TZID=Europe/London:20240710T170000
DTSTAMP:20260425T150555
CREATED:20240109T105734Z
LAST-MODIFIED:20240109T105734Z
UID:21344-1720598400-1720630800@www.gcma.org.uk
SUMMARY:South East GCMA V French
DESCRIPTION:
URL:https://www.gcma.org.uk/event/south-east-gcma-v-french/
LOCATION:Royal Blackheath Golf Club
CATEGORIES:South East
END:VEVENT
BEGIN:VEVENT
DTSTART;TZID=Europe/London:20240726T080000
DTEND;TZID=Europe/London:20240726T170000
DTSTAMP:20260425T150555
CREATED:20240109T111055Z
LAST-MODIFIED:20240109T111055Z
UID:21375-1721980800-1722013200@www.gcma.org.uk
SUMMARY:South East Region Summer Business Meeting
DESCRIPTION:
URL:https://www.gcma.org.uk/event/south-east-region-summer-business-meeting/
LOCATION:Kings Hill Golf Club
CATEGORIES:South East
END:VEVENT
BEGIN:VEVENT
DTSTART;TZID=Europe/London:20240815T080000
DTEND;TZID=Europe/London:20240815T170000
DTSTAMP:20260425T150555
CREATED:20240109T111641Z
LAST-MODIFIED:20240109T111641Z
UID:21386-1723708800-1723741200@www.gcma.org.uk
SUMMARY:John Young Memorial Trophy
DESCRIPTION:
URL:https://www.gcma.org.uk/event/john-young-memorial-trophy/
LOCATION:Littlestone Golf Club
CATEGORIES:South East
END:VEVENT
BEGIN:VEVENT
DTSTART;TZID=Europe/London:20241007T080000
DTEND;TZID=Europe/London:20241007T170000
DTSTAMP:20260425T150555
CREATED:20240110T110454Z
LAST-MODIFIED:20240110T110454Z
UID:21498-1728288000-1728320400@www.gcma.org.uk
SUMMARY:South East Region Autumn Business Meeting
DESCRIPTION:
URL:https://www.gcma.org.uk/event/south-east-region-autumn-business-meeting-2/
LOCATION:The London Club
CATEGORIES:South East
END:VEVENT
BEGIN:VEVENT
DTSTART;TZID=Europe/London:20241017T080000
DTEND;TZID=Europe/London:20241017T170000
DTSTAMP:20260425T150555
CREATED:20240110T111642Z
LAST-MODIFIED:20240110T111642Z
UID:21504-1729152000-1729184400@www.gcma.org.uk
SUMMARY:London & Home Counties vs South East
DESCRIPTION:
URL:https://www.gcma.org.uk/event/london-home-counties-vs-south-east-2/
LOCATION:Wildernesse
CATEGORIES:London & Home Counties,South East
END:VEVENT
BEGIN:VEVENT
DTSTART;VALUE=DATE:20250318
DTEND;VALUE=DATE:20250319
DTSTAMP:20260425T150555
CREATED:20241216T165731Z
LAST-MODIFIED:20241216T170507Z
UID:27854-1742256000-1742342399@www.gcma.org.uk
SUMMARY:South East Region - Captain's Day\, AGM & Business Meeting
DESCRIPTION:
URL:https://www.gcma.org.uk/event/south-east-region-captains-day-agm-business-meeting/
LOCATION:Mid Kent Golf Club
CATEGORIES:South East
END:VEVENT
BEGIN:VEVENT
DTSTART;VALUE=DATE:20250523
DTEND;VALUE=DATE:20250524
DTSTAMP:20260425T150555
CREATED:20241216T165847Z
LAST-MODIFIED:20241216T170602Z
UID:27881-1747958400-1748044799@www.gcma.org.uk
SUMMARY:South East Region - Match GCMA South East v GCMA East Anglia
DESCRIPTION:
URL:https://www.gcma.org.uk/event/south-east-region-match-gcma-south-east-v-gcma-east-anglia/
LOCATION:Sittingbourne & Milton Regis Golf Club
CATEGORIES:South East
END:VEVENT
BEGIN:VEVENT
DTSTART;VALUE=DATE:20250611
DTEND;VALUE=DATE:20250612
DTSTAMP:20260425T150555
CREATED:20241216T165902Z
LAST-MODIFIED:20241216T170617Z
UID:27886-1749600000-1749686399@www.gcma.org.uk
SUMMARY:South East Region - Guest Day
DESCRIPTION:
URL:https://www.gcma.org.uk/event/south-east-region-guest-day/
LOCATION:Sundridge Park GC
CATEGORIES:South East
END:VEVENT
BEGIN:VEVENT
DTSTART;VALUE=DATE:20250814
DTEND;VALUE=DATE:20250815
DTSTAMP:20260425T150555
CREATED:20241216T170019Z
LAST-MODIFIED:20241216T170732Z
UID:27913-1755129600-1755215999@www.gcma.org.uk
SUMMARY:South East Region - Match GCMA South East v Kent Golf (The John Young Memorial Trophy)
DESCRIPTION:
URL:https://www.gcma.org.uk/event/south-east-region-match-gcma-south-east-v-kent-golf-the-john-young-memorial-trophy/
LOCATION:Littlestone GC
CATEGORIES:South East
END:VEVENT
BEGIN:VEVENT
DTSTART;VALUE=DATE:20251023
DTEND;VALUE=DATE:20251024
DTSTAMP:20260425T150555
CREATED:20241216T170832Z
LAST-MODIFIED:20241216T170832Z
UID:28000-1761177600-1761263999@www.gcma.org.uk
SUMMARY:South East Region - Match GCMA South East v GCMA London
DESCRIPTION:
URL:https://www.gcma.org.uk/event/south-east-region-match-gcma-south-east-v-gcma-london/
LOCATION:Lamberhurst Golf Club
CATEGORIES:South East
END:VEVENT
BEGIN:VEVENT
DTSTART;TZID=Europe/London:20260326T000000
DTEND;TZID=Europe/London:20260326T000000
DTSTAMP:20260425T150555
CREATED:20251215T153308Z
LAST-MODIFIED:20251215T163325Z
UID:32437-1774483200-1774483200@www.gcma.org.uk
SUMMARY:South East Regional AGM & Captains Day
DESCRIPTION:
URL:https://www.gcma.org.uk/event/gcma-south-east-agm-captains-day-2/
LOCATION:Sittingbourne & Milton Regis Golf Club
CATEGORIES:South East
END:VEVENT
BEGIN:VEVENT
DTSTART;TZID=Europe/London:20260423T000000
DTEND;TZID=Europe/London:20260423T000000
DTSTAMP:20260425T150555
CREATED:20251215T153323Z
LAST-MODIFIED:20251215T162557Z
UID:32444-1776902400-1776902400@www.gcma.org.uk
SUMMARY:South East Spring Business Meeting
DESCRIPTION:
URL:https://www.gcma.org.uk/event/gcma-south-east-spring-meeting-2/
LOCATION:Wildernesse Golf Club
CATEGORIES:South East
END:VEVENT
BEGIN:VEVENT
DTSTART;TZID=Europe/London:20260616T000000
DTEND;TZID=Europe/London:20260616T000000
DTSTAMP:20260425T150555
CREATED:20251215T153539Z
LAST-MODIFIED:20251215T162015Z
UID:32451-1781568000-1781568000@www.gcma.org.uk
SUMMARY:South East Regional Guest Day
DESCRIPTION:
URL:https://www.gcma.org.uk/event/gcma-south-east-guest-day-2/
LOCATION:Cherry Lodge Golf Club
CATEGORIES:South East
END:VEVENT
BEGIN:VEVENT
DTSTART;TZID=Europe/London:20261008T000000
DTEND;TZID=Europe/London:20261008T000000
DTSTAMP:20260425T150555
CREATED:20251215T154545Z
LAST-MODIFIED:20251215T155534Z
UID:32469-1791417600-1791417600@www.gcma.org.uk
SUMMARY:South East Autumn Business Meeting
DESCRIPTION:
URL:https://www.gcma.org.uk/event/gcma-south-east-autumn-meeting-2/
LOCATION:Ashford Golf Club
CATEGORIES:South East
END:VEVENT
END:VCALENDAR