BEGIN:VCALENDAR
VERSION:2.0
PRODID:-//GCMA - ECPv6.15.20//NONSGML v1.0//EN
CALSCALE:GREGORIAN
METHOD:PUBLISH
X-ORIGINAL-URL:https://www.gcma.org.uk
X-WR-CALDESC:Events for GCMA
REFRESH-INTERVAL;VALUE=DURATION:PT1H
X-Robots-Tag:noindex
X-PUBLISHED-TTL:PT1H
BEGIN:VTIMEZONE
TZID:Europe/London
BEGIN:DAYLIGHT
TZOFFSETFROM:+0000
TZOFFSETTO:+0100
TZNAME:BST
DTSTART:20210328T010000
END:DAYLIGHT
BEGIN:STANDARD
TZOFFSETFROM:+0100
TZOFFSETTO:+0000
TZNAME:GMT
DTSTART:20211031T010000
END:STANDARD
BEGIN:DAYLIGHT
TZOFFSETFROM:+0000
TZOFFSETTO:+0100
TZNAME:BST
DTSTART:20220327T010000
END:DAYLIGHT
BEGIN:STANDARD
TZOFFSETFROM:+0100
TZOFFSETTO:+0000
TZNAME:GMT
DTSTART:20221030T010000
END:STANDARD
BEGIN:DAYLIGHT
TZOFFSETFROM:+0000
TZOFFSETTO:+0100
TZNAME:BST
DTSTART:20230326T010000
END:DAYLIGHT
BEGIN:STANDARD
TZOFFSETFROM:+0100
TZOFFSETTO:+0000
TZNAME:GMT
DTSTART:20231029T010000
END:STANDARD
END:VTIMEZONE
BEGIN:VEVENT
DTSTART;VALUE=DATE:20220607
DTEND;VALUE=DATE:20220608
DTSTAMP:20260421T020614
CREATED:20220524T104336Z
LAST-MODIFIED:20220530T165528Z
UID:11531-1654560000-1654646399@www.gcma.org.uk
SUMMARY:Regional Guest Day
DESCRIPTION:
URL:https://www.gcma.org.uk/event/regional-guest-day/
LOCATION:Sittingbourne Golf Club
CATEGORIES:Regional,South East
END:VEVENT
BEGIN:VEVENT
DTSTART;VALUE=DATE:20220609
DTEND;VALUE=DATE:20220610
DTSTAMP:20260421T020614
CREATED:20220524T104350Z
LAST-MODIFIED:20220727T094553Z
UID:11533-1654732800-1654819199@www.gcma.org.uk
SUMMARY:Regional Match
DESCRIPTION:
URL:https://www.gcma.org.uk/event/regional-match-4/
LOCATION:Corhampton Golf Club
CATEGORIES:Chiltern & Home Counties,Chilterns,Regional,Southern
END:VEVENT
BEGIN:VEVENT
DTSTART;VALUE=DATE:20220614
DTEND;VALUE=DATE:20220615
DTSTAMP:20260421T020614
CREATED:20220524T104351Z
LAST-MODIFIED:20220727T094553Z
UID:11534-1655164800-1655251199@www.gcma.org.uk
SUMMARY:Regional Match
DESCRIPTION:
URL:https://www.gcma.org.uk/event/regional-match-5/
LOCATION:East Herts Golf Club
CATEGORIES:Chiltern & Home Counties,Chilterns,London & Home Counties,Regional
END:VEVENT
BEGIN:VEVENT
DTSTART;VALUE=DATE:20220616
DTEND;VALUE=DATE:20220617
DTSTAMP:20260421T020614
CREATED:20220524T104351Z
LAST-MODIFIED:20220530T165634Z
UID:11536-1655337600-1655423999@www.gcma.org.uk
SUMMARY:Regional Match
DESCRIPTION:
URL:https://www.gcma.org.uk/event/regional-match-6/
LOCATION:Chigwell Golf Club
CATEGORIES:East Anglia & Norfolk,Regional,South East
END:VEVENT
BEGIN:VEVENT
DTSTART;VALUE=DATE:20220620
DTEND;VALUE=DATE:20220621
DTSTAMP:20260421T020614
CREATED:20220524T104405Z
LAST-MODIFIED:20220530T165649Z
UID:11537-1655683200-1655769599@www.gcma.org.uk
SUMMARY:Regional Members Event
DESCRIPTION:
URL:https://www.gcma.org.uk/event/regional-members-event/
LOCATION:Royal Wimbledon Golf Club
CATEGORIES:London & Home Counties,Regional
END:VEVENT
BEGIN:VEVENT
DTSTART;VALUE=DATE:20220621
DTEND;VALUE=DATE:20220622
DTSTAMP:20260421T020614
CREATED:20220530T165649Z
LAST-MODIFIED:20220530T165649Z
UID:11734-1655769600-1655855999@www.gcma.org.uk
SUMMARY:Regional Meeting
DESCRIPTION:
URL:https://www.gcma.org.uk/event/regional-meeting-23/
LOCATION:Salisbury and South Wilts Golf Club
CATEGORIES:Regional,Wessex
END:VEVENT
BEGIN:VEVENT
DTSTART;VALUE=DATE:20220622
DTEND;VALUE=DATE:20220623
DTSTAMP:20260421T020614
CREATED:20220524T104406Z
LAST-MODIFIED:20220530T165649Z
UID:11538-1655856000-1655942399@www.gcma.org.uk
SUMMARY:Regional Members Event
DESCRIPTION:
URL:https://www.gcma.org.uk/event/regional-members-event-2/
LOCATION:Launceston Golf Club
CATEGORIES:Regional,South West
END:VEVENT
BEGIN:VEVENT
DTSTART;TZID=Europe/London:20220622T100000
DTEND;TZID=Europe/London:20220622T200000
DTSTAMP:20260421T020614
CREATED:20220530T165649Z
LAST-MODIFIED:20220530T165649Z
UID:11735-1655892000-1655928000@www.gcma.org.uk
SUMMARY:Regional Members Event
DESCRIPTION:
URL:https://www.gcma.org.uk/event/regional-members-event-21/
LOCATION:Seacroft Golf Club
CATEGORIES:East Midlands,Regional
END:VEVENT
BEGIN:VEVENT
DTSTART;VALUE=DATE:20220626
DTEND;VALUE=DATE:20220628
DTSTAMP:20260421T020614
CREATED:20220524T104406Z
LAST-MODIFIED:20220530T165726Z
UID:11541-1656201600-1656374399@www.gcma.org.uk
SUMMARY:National Match
DESCRIPTION:
URL:https://www.gcma.org.uk/event/national-match/
LOCATION:Ashburnham Golf Club
CATEGORIES:National Event
END:VEVENT
BEGIN:VEVENT
DTSTART;VALUE=DATE:20220627
DTEND;VALUE=DATE:20220628
DTSTAMP:20260421T020614
CREATED:20220524T104421Z
LAST-MODIFIED:20220614T082333Z
UID:11545-1656288000-1656374399@www.gcma.org.uk
SUMMARY:Regional Guest Day
DESCRIPTION:
URL:https://www.gcma.org.uk/event/regional-guest-day-2/
LOCATION:Bury St Edmunds Golf Club
CATEGORIES:East Anglia & Norfolk,Regional
END:VEVENT
BEGIN:VEVENT
DTSTART;VALUE=DATE:20220630
DTEND;VALUE=DATE:20220701
DTSTAMP:20260421T020614
CREATED:20220524T104420Z
LAST-MODIFIED:20220530T165726Z
UID:11542-1656547200-1656633599@www.gcma.org.uk
SUMMARY:Regional Match
DESCRIPTION:
URL:https://www.gcma.org.uk/event/regional-match-7/
CATEGORIES:Midlands,Regional,Yorkshire
END:VEVENT
END:VCALENDAR