BEGIN:VCALENDAR
VERSION:2.0
PRODID:-//GCMA - ECPv6.15.20//NONSGML v1.0//EN
CALSCALE:GREGORIAN
METHOD:PUBLISH
X-WR-CALNAME:GCMA
X-ORIGINAL-URL:https://www.gcma.org.uk
X-WR-CALDESC:Events for GCMA
REFRESH-INTERVAL;VALUE=DURATION:PT1H
X-Robots-Tag:noindex
X-PUBLISHED-TTL:PT1H
BEGIN:VTIMEZONE
TZID:Europe/London
BEGIN:DAYLIGHT
TZOFFSETFROM:+0000
TZOFFSETTO:+0100
TZNAME:BST
DTSTART:20210328T010000
END:DAYLIGHT
BEGIN:STANDARD
TZOFFSETFROM:+0100
TZOFFSETTO:+0000
TZNAME:GMT
DTSTART:20211031T010000
END:STANDARD
BEGIN:DAYLIGHT
TZOFFSETFROM:+0000
TZOFFSETTO:+0100
TZNAME:BST
DTSTART:20220327T010000
END:DAYLIGHT
BEGIN:STANDARD
TZOFFSETFROM:+0100
TZOFFSETTO:+0000
TZNAME:GMT
DTSTART:20221030T010000
END:STANDARD
BEGIN:DAYLIGHT
TZOFFSETFROM:+0000
TZOFFSETTO:+0100
TZNAME:BST
DTSTART:20230326T010000
END:DAYLIGHT
BEGIN:STANDARD
TZOFFSETFROM:+0100
TZOFFSETTO:+0000
TZNAME:GMT
DTSTART:20231029T010000
END:STANDARD
END:VTIMEZONE
BEGIN:VEVENT
DTSTART;VALUE=DATE:20220701
DTEND;VALUE=DATE:20220702
DTSTAMP:20260421T033214
CREATED:20220524T104421Z
LAST-MODIFIED:20220530T165726Z
UID:11543-1656633600-1656719999@www.gcma.org.uk
SUMMARY:Regional Meeting
DESCRIPTION:
URL:https://www.gcma.org.uk/event/regional-meeting-8/
LOCATION:Sundridge Park Golf Club
CATEGORIES:Regional,South East
END:VEVENT
BEGIN:VEVENT
DTSTART;VALUE=DATE:20220705
DTEND;VALUE=DATE:20220707
DTSTAMP:20260421T033214
CREATED:20220524T104421Z
LAST-MODIFIED:20220530T165727Z
UID:11544-1656979200-1657151999@www.gcma.org.uk
SUMMARY:Regional Members Event
DESCRIPTION:
URL:https://www.gcma.org.uk/event/regional-members-event-4/
LOCATION:Dale Hill Golf Club
CATEGORIES:Regional,South East
END:VEVENT
BEGIN:VEVENT
DTSTART;VALUE=DATE:20220707
DTEND;VALUE=DATE:20220708
DTSTAMP:20260421T033214
CREATED:20220524T104621Z
LAST-MODIFIED:20220530T165741Z
UID:11547-1657152000-1657238399@www.gcma.org.uk
SUMMARY:Regional Members Event
DESCRIPTION:
URL:https://www.gcma.org.uk/event/regional-members-event-5/
LOCATION:Royal Ashdown Forest Golf Club
CATEGORIES:Regional,Southern
END:VEVENT
BEGIN:VEVENT
DTSTART;VALUE=DATE:20220707
DTEND;VALUE=DATE:20220708
DTSTAMP:20260421T033214
CREATED:20220530T165741Z
LAST-MODIFIED:20220530T165741Z
UID:11743-1657152000-1657238399@www.gcma.org.uk
SUMMARY:Regional Meeting
DESCRIPTION:
URL:https://www.gcma.org.uk/event/regional-meeting-24/
LOCATION:Mountain Ash Golf Club
CATEGORIES:Regional,Wales
END:VEVENT
BEGIN:VEVENT
DTSTART;TZID=Europe/London:20220707T140000
DTEND;TZID=Europe/London:20220707T150000
DTSTAMP:20260421T033214
CREATED:20220524T104421Z
LAST-MODIFIED:20220524T104421Z
UID:11546-1657202400-1657206000@www.gcma.org.uk
SUMMARY:GCMA Know How Webinar July
DESCRIPTION:
URL:https://www.gcma.org.uk/event/gcma-know-how-webinar-july/
LOCATION:Zoom
CATEGORIES:Education
END:VEVENT
BEGIN:VEVENT
DTSTART;VALUE=DATE:20220708
DTEND;VALUE=DATE:20220709
DTSTAMP:20260421T033214
CREATED:20220524T104621Z
LAST-MODIFIED:20220530T165741Z
UID:11548-1657238400-1657324799@www.gcma.org.uk
SUMMARY:Regional Match
DESCRIPTION:
URL:https://www.gcma.org.uk/event/regional-match-8/
LOCATION:Wilesley Park Golf Club
CATEGORIES:Midlands,Regional,Yorkshire
END:VEVENT
BEGIN:VEVENT
DTSTART;VALUE=DATE:20220715
DTEND;VALUE=DATE:20220716
DTSTAMP:20260421T033214
CREATED:20220524T104621Z
LAST-MODIFIED:20220727T094553Z
UID:11549-1657843200-1657929599@www.gcma.org.uk
SUMMARY:Regional Guest Day
DESCRIPTION:
URL:https://www.gcma.org.uk/event/regional-guest-day-3/
LOCATION:Brickendon Grange Golf Club
CATEGORIES:Chiltern & Home Counties,Chilterns,Regional
END:VEVENT
BEGIN:VEVENT
DTSTART;VALUE=DATE:20220718
DTEND;VALUE=DATE:20220719
DTSTAMP:20260421T033214
CREATED:20220524T104621Z
LAST-MODIFIED:20220530T165851Z
UID:11550-1658102400-1658188799@www.gcma.org.uk
SUMMARY:National Match
DESCRIPTION:
URL:https://www.gcma.org.uk/event/national-match-2/
LOCATION:Burnham and Berrow Golf Club
CATEGORIES:National Event
END:VEVENT
BEGIN:VEVENT
DTSTART;VALUE=DATE:20220718
DTEND;VALUE=DATE:20220719
DTSTAMP:20260421T033214
CREATED:20220524T104622Z
LAST-MODIFIED:20220530T165851Z
UID:11551-1658102400-1658188799@www.gcma.org.uk
SUMMARY:Regional Meeting
DESCRIPTION:
URL:https://www.gcma.org.uk/event/regional-meeting-9/
LOCATION:Lancaster Golf Club
CATEGORIES:North West,Regional
END:VEVENT
BEGIN:VEVENT
DTSTART;VALUE=DATE:20220718
DTEND;VALUE=DATE:20220719
DTSTAMP:20260421T033214
CREATED:20220524T104821Z
LAST-MODIFIED:20220530T165851Z
UID:11552-1658102400-1658188799@www.gcma.org.uk
SUMMARY:Regional Members Event
DESCRIPTION:
URL:https://www.gcma.org.uk/event/regional-members-event-6/
LOCATION:Enmore Park Golf Club
CATEGORIES:Regional,South West
END:VEVENT
BEGIN:VEVENT
DTSTART;VALUE=DATE:20220721
DTEND;VALUE=DATE:20220722
DTSTAMP:20260421T033214
CREATED:20220524T104821Z
LAST-MODIFIED:20220530T165851Z
UID:11553-1658361600-1658447999@www.gcma.org.uk
SUMMARY:Regional Guest Day
DESCRIPTION:
URL:https://www.gcma.org.uk/event/regional-guest-day-4/
LOCATION:Bognor Regis Golf Club
CATEGORIES:Regional,Southern
END:VEVENT
BEGIN:VEVENT
DTSTART;VALUE=DATE:20220721
DTEND;VALUE=DATE:20220722
DTSTAMP:20260421T033214
CREATED:20220524T104822Z
LAST-MODIFIED:20220530T165851Z
UID:11554-1658361600-1658447999@www.gcma.org.uk
SUMMARY:Regional Match
DESCRIPTION:
URL:https://www.gcma.org.uk/event/regional-match-9/
LOCATION:Bedale Golf Club
CATEGORIES:Northern,Regional,Yorkshire
END:VEVENT
BEGIN:VEVENT
DTSTART;VALUE=DATE:20220725
DTEND;VALUE=DATE:20220726
DTSTAMP:20260421T033214
CREATED:20220524T104822Z
LAST-MODIFIED:20220530T165906Z
UID:11555-1658707200-1658793599@www.gcma.org.uk
SUMMARY:Regional Match
DESCRIPTION:
URL:https://www.gcma.org.uk/event/regional-match-10/
LOCATION:Beeston Fields Golf Club
CATEGORIES:East Midlands,Midlands,Regional
END:VEVENT
BEGIN:VEVENT
DTSTART;VALUE=DATE:20220727
DTEND;VALUE=DATE:20220728
DTSTAMP:20260421T033214
CREATED:20220524T104822Z
LAST-MODIFIED:20220727T094553Z
UID:11556-1658880000-1658966399@www.gcma.org.uk
SUMMARY:Regional Match
DESCRIPTION:
URL:https://www.gcma.org.uk/event/regional-match-11/
LOCATION:John O’Gaunt Golf Club
CATEGORIES:Chiltern & Home Counties,Chilterns,East Anglia & Norfolk,Regional
END:VEVENT
BEGIN:VEVENT
DTSTART;VALUE=DATE:20220728
DTEND;VALUE=DATE:20220729
DTSTAMP:20260421T033214
CREATED:20220524T105022Z
LAST-MODIFIED:20220710T062501Z
UID:11557-1658966400-1659052799@www.gcma.org.uk
SUMMARY:National Golf Day
DESCRIPTION:
URL:https://www.gcma.org.uk/event/national-golf-day/
LOCATION:The Caversham
CATEGORIES:National Event
END:VEVENT
END:VCALENDAR