BEGIN:VCALENDAR
VERSION:2.0
PRODID:-//GCMA - ECPv6.15.20//NONSGML v1.0//EN
CALSCALE:GREGORIAN
METHOD:PUBLISH
X-ORIGINAL-URL:https://www.gcma.org.uk
X-WR-CALDESC:Events for GCMA
REFRESH-INTERVAL;VALUE=DURATION:PT1H
X-Robots-Tag:noindex
X-PUBLISHED-TTL:PT1H
BEGIN:VTIMEZONE
TZID:Europe/London
BEGIN:DAYLIGHT
TZOFFSETFROM:+0000
TZOFFSETTO:+0100
TZNAME:BST
DTSTART:20220327T010000
END:DAYLIGHT
BEGIN:STANDARD
TZOFFSETFROM:+0100
TZOFFSETTO:+0000
TZNAME:GMT
DTSTART:20221030T010000
END:STANDARD
BEGIN:DAYLIGHT
TZOFFSETFROM:+0000
TZOFFSETTO:+0100
TZNAME:BST
DTSTART:20230326T010000
END:DAYLIGHT
BEGIN:STANDARD
TZOFFSETFROM:+0100
TZOFFSETTO:+0000
TZNAME:GMT
DTSTART:20231029T010000
END:STANDARD
BEGIN:DAYLIGHT
TZOFFSETFROM:+0000
TZOFFSETTO:+0100
TZNAME:BST
DTSTART:20240331T010000
END:DAYLIGHT
BEGIN:STANDARD
TZOFFSETFROM:+0100
TZOFFSETTO:+0000
TZNAME:GMT
DTSTART:20241027T010000
END:STANDARD
END:VTIMEZONE
BEGIN:VEVENT
DTSTART;VALUE=DATE:20230215
DTEND;VALUE=DATE:20230216
DTSTAMP:20260421T135526
CREATED:20221223T131458Z
LAST-MODIFIED:20230113T163235Z
UID:16726-1676419200-1676505599@www.gcma.org.uk
SUMMARY:National Education Day - Huddersfield
DESCRIPTION:
URL:https://www.gcma.org.uk/event/national-education-day-huddersfield-2/
LOCATION:Huddersfield\, United Kingdom
CATEGORIES:ALL
END:VEVENT
BEGIN:VEVENT
DTSTART;TZID=Europe/London:20230221T000000
DTEND;TZID=Europe/London:20230221T000000
DTSTAMP:20260421T135526
CREATED:20221223T131458Z
LAST-MODIFIED:20221223T131458Z
UID:16727-1676937600-1676937600@www.gcma.org.uk
SUMMARY:Wessex Business Meeting
DESCRIPTION:
URL:https://www.gcma.org.uk/event/wessex-business-meeting-2/
LOCATION:Salisbury and South Wilts Golf Club
CATEGORIES:Wessex
END:VEVENT
BEGIN:VEVENT
DTSTART;TZID=Europe/London:20230221T000000
DTEND;TZID=Europe/London:20230221T000000
DTSTAMP:20260421T135526
CREATED:20221223T131458Z
LAST-MODIFIED:20221223T131458Z
UID:16728-1676937600-1676937600@www.gcma.org.uk
SUMMARY:Mentee Group Workshop
DESCRIPTION:
URL:https://www.gcma.org.uk/event/mentee-group-workshop-2/
LOCATION:TBC
CATEGORIES:ALL
END:VEVENT
BEGIN:VEVENT
DTSTART;TZID=Europe/London:20230227T000000
DTEND;TZID=Europe/London:20230227T000000
DTSTAMP:20260421T135526
CREATED:20221223T131459Z
LAST-MODIFIED:20221223T131459Z
UID:16729-1677456000-1677456000@www.gcma.org.uk
SUMMARY:East Anglia Seminar with Stephen Brown
DESCRIPTION:
URL:https://www.gcma.org.uk/event/east-anglia-seminar-with-stephen-brown-2/
CATEGORIES:East Anglia
END:VEVENT
BEGIN:VEVENT
DTSTART;TZID=Europe/London:20230228T000000
DTEND;TZID=Europe/London:20230228T000000
DTSTAMP:20260421T135526
CREATED:20221223T131459Z
LAST-MODIFIED:20221223T131459Z
UID:16730-1677542400-1677542400@www.gcma.org.uk
SUMMARY:Wales Business Meeting (F&B)
DESCRIPTION:
URL:https://www.gcma.org.uk/event/wales-business-meeting-fb-2/
CATEGORIES:Wales
END:VEVENT
END:VCALENDAR