BEGIN:VCALENDAR
VERSION:2.0
PRODID:-//GCMA - ECPv6.15.20//NONSGML v1.0//EN
CALSCALE:GREGORIAN
METHOD:PUBLISH
X-ORIGINAL-URL:https://www.gcma.org.uk
X-WR-CALDESC:Events for GCMA
REFRESH-INTERVAL;VALUE=DURATION:PT1H
X-Robots-Tag:noindex
X-PUBLISHED-TTL:PT1H
BEGIN:VTIMEZONE
TZID:Europe/London
BEGIN:DAYLIGHT
TZOFFSETFROM:+0000
TZOFFSETTO:+0100
TZNAME:BST
DTSTART:20220327T010000
END:DAYLIGHT
BEGIN:STANDARD
TZOFFSETFROM:+0100
TZOFFSETTO:+0000
TZNAME:GMT
DTSTART:20221030T010000
END:STANDARD
BEGIN:DAYLIGHT
TZOFFSETFROM:+0000
TZOFFSETTO:+0100
TZNAME:BST
DTSTART:20230326T010000
END:DAYLIGHT
BEGIN:STANDARD
TZOFFSETFROM:+0100
TZOFFSETTO:+0000
TZNAME:GMT
DTSTART:20231029T010000
END:STANDARD
BEGIN:DAYLIGHT
TZOFFSETFROM:+0000
TZOFFSETTO:+0100
TZNAME:BST
DTSTART:20240331T010000
END:DAYLIGHT
BEGIN:STANDARD
TZOFFSETFROM:+0100
TZOFFSETTO:+0000
TZNAME:GMT
DTSTART:20241027T010000
END:STANDARD
END:VTIMEZONE
BEGIN:VEVENT
DTSTART;VALUE=DATE:20230301
DTEND;VALUE=DATE:20230302
DTSTAMP:20260421T123819
CREATED:20230116T135448Z
LAST-MODIFIED:20230116T135519Z
UID:17041-1677628800-1677715199@www.gcma.org.uk
SUMMARY:Midland AGM
DESCRIPTION:
URL:https://www.gcma.org.uk/event/midland-agm/
CATEGORIES:Midland,Midlands
END:VEVENT
BEGIN:VEVENT
DTSTART;VALUE=DATE:20230306
DTEND;VALUE=DATE:20230310
DTSTAMP:20260421T123819
CREATED:20221223T131459Z
LAST-MODIFIED:20230301T103258Z
UID:16732-1678060800-1678406399@www.gcma.org.uk
SUMMARY:Principles of Golf Club Management 4-day Course (Online)
DESCRIPTION:  \n 
URL:https://www.gcma.org.uk/event/principles-of-golf-club-management-online/
LOCATION:Zoom
CATEGORIES:ALL
END:VEVENT
BEGIN:VEVENT
DTSTART;TZID=Europe/London:20230307T000000
DTEND;TZID=Europe/London:20230307T000000
DTSTAMP:20260421T123819
CREATED:20221223T131500Z
LAST-MODIFIED:20221223T131500Z
UID:16733-1678147200-1678147200@www.gcma.org.uk
SUMMARY:Chiltern & Home Counties Winter Business Meeting
DESCRIPTION:
URL:https://www.gcma.org.uk/event/chiltern-home-counties-winter-business-meeting-3/
CATEGORIES:Chiltern & Home Counties
END:VEVENT
BEGIN:VEVENT
DTSTART;TZID=Europe/London:20230316T000000
DTEND;TZID=Europe/London:20230316T000000
DTSTAMP:20260421T123819
CREATED:20221223T131515Z
LAST-MODIFIED:20221223T131515Z
UID:16739-1678924800-1678924800@www.gcma.org.uk
SUMMARY:London & Home Counties  AGM
DESCRIPTION:
URL:https://www.gcma.org.uk/event/london-home-counties-agm-2/
CATEGORIES:London & Home Counties
END:VEVENT
BEGIN:VEVENT
DTSTART;TZID=Europe/London:20230323T000000
DTEND;TZID=Europe/London:20230323T000000
DTSTAMP:20260421T123819
CREATED:20221223T131515Z
LAST-MODIFIED:20221223T131515Z
UID:16740-1679529600-1679529600@www.gcma.org.uk
SUMMARY:Northern AGM
DESCRIPTION:
URL:https://www.gcma.org.uk/event/northern-agm-2/
CATEGORIES:Northern
END:VEVENT
BEGIN:VEVENT
DTSTART;TZID=Europe/London:20230324T000000
DTEND;TZID=Europe/London:20230324T000000
DTSTAMP:20260421T123819
CREATED:20221223T131515Z
LAST-MODIFIED:20221223T131515Z
UID:16741-1679616000-1679616000@www.gcma.org.uk
SUMMARY:South East Captains Day & AGM
DESCRIPTION:
URL:https://www.gcma.org.uk/event/south-east-captains-day-agm-2/
CATEGORIES:South East
END:VEVENT
BEGIN:VEVENT
DTSTART;TZID=Europe/London:20230330T000000
DTEND;TZID=Europe/London:20230330T000000
DTSTAMP:20260421T123819
CREATED:20221223T131515Z
LAST-MODIFIED:20221223T131515Z
UID:16742-1680134400-1680134400@www.gcma.org.uk
SUMMARY:Yorkshire AGM
DESCRIPTION:
URL:https://www.gcma.org.uk/event/yorkshire-agm-2/
CATEGORIES:Yorkshire
END:VEVENT
BEGIN:VEVENT
DTSTART;TZID=Europe/London:20230330T000000
DTEND;TZID=Europe/London:20230330T000000
DTSTAMP:20260421T123819
CREATED:20221223T131515Z
LAST-MODIFIED:20221223T131515Z
UID:16743-1680134400-1680134400@www.gcma.org.uk
SUMMARY:North West AGM
DESCRIPTION:
URL:https://www.gcma.org.uk/event/north-west-agm-2/
CATEGORIES:North West
END:VEVENT
END:VCALENDAR